BEGIN:VCALENDAR
VERSION:2.0
PRODID:icalendar-ruby
CALSCALE:GREGORIAN
METHOD:PUBLISH
BEGIN:VEVENT
DTSTAMP:20260421T123333Z
UID:236-180234@stmatthews-church.org
DTSTART:20260428T230000Z
DTEND:20260429T000000Z
CLASS:PUBLIC
CREATED:20260420T111357
DESCRIPTION:Next Meeting Tuesday\, April 28 at 7:00pm in the Sanctuary. We 
 will be discussing pages 31 - 57 in The Freedom of a Christian.\n \n 
LAST-MODIFIED:20260420T111357
LOCATION:Sanctuary
SUMMARY:Faith Discussions Meeting
URL;VALUE=URI:https://www.stmatthews-church.org/events/faith-discussions-me
 eting--236/2026-04-28
ATTACH;FILENAME=Faith Discussions.jpg;FMTTYPE=image/jpeg:https://dq5pwpg1q8
 ru0.cloudfront.net/2025/09/03/15/42/27/9ac3abf4-83e5-463b-9b9a-ea7b813176f
 9/Faith%20Discussions.jpg
END:VEVENT
END:VCALENDAR
