BEGIN:VCALENDAR
VERSION:2.0
PRODID:icalendar-ruby
CALSCALE:GREGORIAN
METHOD:PUBLISH
BEGIN:VEVENT
DTSTAMP:20260420T171713Z
UID:194-173600@stmatthews-church.org
DTSTART;VALUE=DATE:20260628
DTEND;VALUE=DATE:20260628
CLASS:PUBLIC
CREATED:20260324T102902
DESCRIPTION:The April Meal will be delivered on Sunday\, April 26. Please s
 ign up here!\nThe kitchen at St. Mary’s Homeless Shelter in Phoenixville
  is now fully licensed allowing them to offer more flexible options in the
  meals we prepare for them.\nYou can choose one of these options when you 
 sign up to provide a meal:\n-Provide groceries for their kitchen team to p
 repare dinner. Plan a meal for 15 people\, including a main dish\, a veget
 able or salad and a dessert. Groceries can be dropped off the day before o
 r by 2:30 pm on the day of the meal.\n-Deliver a ready-to-eat meal (frozen
  or fresh) from a grocery store or pizza parlor.\n-Donate a $40 grocery gi
 ft card to ACME\, Giant\, Redners or Costco so they can purchase the ingre
 dients to prepare that evening’s meal.\nBecome a guest chef/baker and pr
 epare your favorite meal or baked treat in their kitchen. Guest chefs are 
 welcome to use their kitchen at a time that works best for you – they’
 ll have their 2 ovens ready for you!\nSt. Mary’s invites you to share yo
 ur favorite recipes for their upcoming recipe book project. As their famil
 ies move into their new homes\, they hope these cherished dishes will help
  carry a piece of our community’s love and support with them. If you wou
 ld like to send a recipe\, please send to Kate Garges at smfs@stmarysfs.or
 g.\n 
LAST-MODIFIED:20260324T102902
LOCATION:
SUMMARY:St. Mary's Meal Delivery
URL;VALUE=URI:https://www.stmatthews-church.org/events/st-marys-meal-delive
 ry/2026-06-28
ATTACH;FILENAME=st-marys-franciscan-shelter-homeless-families-logo.png;FMTT
 YPE=image/png:https://dq5pwpg1q8ru0.cloudfront.net/2025/05/01/16/33/50/239
 9c824-a015-49b7-85a6-2c27549dcfa0/st-marys-franciscan-shelter-homeless-fam
 ilies-logo.png
END:VEVENT
END:VCALENDAR
