BEGIN:VCALENDAR
VERSION:2.0
PRODID:icalendar-ruby
CALSCALE:GREGORIAN
METHOD:PUBLISH
BEGIN:VEVENT
DTSTAMP:20260420T140101Z
UID:7-180157@stmatthews-church.org
DTSTART:20260426T133000Z
DTEND:20260426T143000Z
CLASS:PUBLIC
CREATED:20260420T073837
DESCRIPTION:
LAST-MODIFIED:20260420T073837
LOCATION:
SUMMARY:Sunday Worship
URL;VALUE=URI:https://www.stmatthews-church.org/events/sunday-worship/2026-
 04-26
ATTACH;FILENAME=Service.JPG;FMTTYPE=image/jpeg:https://dq5pwpg1q8ru0.cloudf
 ront.net/2023/12/04/20/24/39/5bea9f0b-655c-4167-9c13-9429c2532ee4/Service.
 JPG
END:VEVENT
END:VCALENDAR
